BEGIN:VCALENDAR
VERSION:2.0
PRODID:-//ものづくり展示会ナビ - ECPv6.15.20//NONSGML v1.0//EN
CALSCALE:GREGORIAN
METHOD:PUBLISH
X-WR-CALNAME:ものづくり展示会ナビ
X-ORIGINAL-URL:https://manufacturingevents.info
X-WR-CALDESC:ものづくり展示会ナビ のイベント
REFRESH-INTERVAL;VALUE=DURATION:PT1H
X-Robots-Tag:noindex
X-PUBLISHED-TTL:PT1H
BEGIN:VTIMEZONE
TZID:Asia/Tokyo
BEGIN:STANDARD
TZOFFSETFROM:+0900
TZOFFSETTO:+0900
TZNAME:JST
DTSTART:20250101T000000
END:STANDARD
END:VTIMEZONE
BEGIN:VEVENT
DTSTART;TZID=Asia/Tokyo:20260506T100000
DTEND;TZID=Asia/Tokyo:20260506T110000
DTSTAMP:20260422T201046
CREATED:20260408T015929Z
LAST-MODIFIED:20260410T093038Z
UID:1053-1778061600-1778065200@manufacturingevents.info
SUMMARY:地域市場動向インサイト ・ 日本国内販売市場のトレンドに注目ウェビナー
DESCRIPTION:日本国内の自動車販売市場の全体像を分析し、構造的課題やOEM各社の戦略を解説するB2B向けオンラインウェビナーです。市場動向を整理し、営業・企画・製品戦略に活かせる実務インサイトを提供します。参加は無料です。 \n需要構造の変化、OEMの販売戦略、国内市場特有の課題などを俯瞰しながら、事業判断に直結するポイントを整理します。日本市場にフォーカスした分析のため、国内営業や商品企画に関わる担当者にとって特に有用な内容です。 \nまた、事前に質問を送付することで、ライブ配信中のQ&Aで優先的に回答されます。自社の仮説や課題を持って参加することで、より具体的な示唆を得ることができます。 \n登壇者\n川野 義昭\n日本・韓国ビークルセールス・フォーキャスト\nS&P Global Mobility
URL:https://manufacturingevents.info/event/market-insight-webinar-2026/
LOCATION:オンライン
CATEGORIES:ウェビナー
ATTACH;FMTTYPE=image/png:https://manufacturingevents.info/wp-content/uploads/2026/04/market-overview.png
END:VEVENT
BEGIN:VEVENT
DTSTART;VALUE=DATE:20260513
DTEND;VALUE=DATE:20260516
DTSTAMP:20260422T201046
CREATED:20260116T100302Z
LAST-MODIFIED:20260307T053819Z
UID:801-1778630400-1778889599@manufacturingevents.info
SUMMARY:Photonix（光・レーザー技術展）［大阪］2026
DESCRIPTION:Photonix（光・レーザー技術展）［大阪］とは\nPhotonix（光・レーザー技術展）［大阪］は、レーザー加工、光学部品・材料、光計測・分析など、フォトニクス分野の最新技術を紹介するB2B展示会です。レーザーおよび光技術の産業利用に焦点を当て、製造業の研究開発、生産技術、品質保証、設備投資担当者が最新ソリューションを比較検討できる場として開催されています。 \n展示会では、レーザー発振器、レーザー加工装置、ビーム制御技術、光学レンズ・ミラー・フィルターなどの光学部品、光センサー、検査・計測装置、解析ソフトウェアなど、フォトニクス関連技術が幅広く紹介されます。これらの技術は、金属加工、電子部品、半導体関連、精密機器などの製造分野において、加工精度の向上や検査工程の高度化に活用されています。 \nPhotonix［大阪］には、メーカーの研究開発、生産技術、品質保証、設備保全、購買・調達などの部門から来場者が集まり、光技術を活用した生産プロセス改善や設備導入に向けた情報収集の場となっています。また、大学・研究機関の研究者なども参加し、技術交流や共同研究のきっかけとなるケースもあります。 \n併催される技術セミナーや出展社プレゼンテーションでは、レーザー加工や光計測に関する技術動向や導入事例が紹介され、フォトニクス技術の具体的な活用方法を学ぶことができます。 \n来場前には、加工対象材料、必要な加工精度、測定条件、導入目的（加工品質の向上、検査工程の自動化、設備更新など）を整理しておくと、展示会場での技術比較や情報収集をより効率的に進めることができます。
URL:https://manufacturingevents.info/event/photonix-2026-osaka/
LOCATION:インテックス大阪\, 住之江区南港北1-5-102\, 大阪市\, 559-0034
CATEGORIES:展示会
ATTACH;FMTTYPE=image/png:https://manufacturingevents.info/wp-content/uploads/2026/01/photonix-tenjikai-osaka-2026.png
END:VEVENT
BEGIN:VEVENT
DTSTART;TZID=Asia/Tokyo:20260527T100000
DTEND;TZID=Asia/Tokyo:20260527T110000
DTSTAMP:20260422T201046
CREATED:20260408T015929Z
LAST-MODIFIED:20260410T071825Z
UID:1054-1779876000-1779879600@manufacturingevents.info
SUMMARY:APAC地域の課題ウェビナー
DESCRIPTION:APAC地域の課題は、S&P Global Mobilityが提供するB2B向けオンラインウェビナーです。自動車業界の市場・需要・技術・生産・地域戦略に関する主要論点を整理できます。参加は無料です。 \n電動化、SDV、コネクテッド化、サプライチェーン再編など、複数の変化が同時に進む中で、断片的なニュースではなく、事業判断に使える形で理解するための内容です。 \n本ウェビナーの情報は以下に直結します： \n競争環境の把握\n顧客課題の理解\n提案資料・営業メッセージの更新\nプロダクト戦略の検討\n展示会後フォローの改善 \nオンライン開催のため、営業・企画・開発・海外事業など複数部門で共有しやすく、視点の統一にも有効です。 \nまた、APAC市場の構造変化を体系的に把握することで、短期の商談だけでなく中長期の顧客理解にもつながります。マーケティング施策（コンテンツ、ABM、営業資料）への展開にも活用可能です。 \n参加前に自社の仮説や確認ポイントを整理しておくと、得られるアウトプットの質が上がります。 \n登壇者\nBoni Sa\nDirector\, Automotive Planning Solution\, S&P Global Mobility
URL:https://manufacturingevents.info/event/apac-market-challenges-webinar-2026/
LOCATION:オンライン
CATEGORIES:ウェビナー
ATTACH;FMTTYPE=image/png:https://manufacturingevents.info/wp-content/uploads/2026/04/market-overview-webinar.png
END:VEVENT
END:VCALENDAR