BEGIN:VCALENDAR
VERSION:2.0
PRODID:-//ものづくり展示会ナビ - ECPv6.15.20//NONSGML v1.0//EN
CALSCALE:GREGORIAN
METHOD:PUBLISH
X-WR-CALNAME:ものづくり展示会ナビ
X-ORIGINAL-URL:https://manufacturingevents.info
X-WR-CALDESC:ものづくり展示会ナビ のイベント
REFRESH-INTERVAL;VALUE=DURATION:PT1H
X-Robots-Tag:noindex
X-PUBLISHED-TTL:PT1H
BEGIN:VTIMEZONE
TZID:Asia/Tokyo
BEGIN:STANDARD
TZOFFSETFROM:+0900
TZOFFSETTO:+0900
TZNAME:JST
DTSTART:20250101T000000
END:STANDARD
END:VTIMEZONE
BEGIN:VEVENT
DTSTART;TZID=Asia/Tokyo:20260701T100000
DTEND;TZID=Asia/Tokyo:20260703T170000
DTSTAMP:20260423T141739
CREATED:20250924T043624Z
LAST-MODIFIED:20260422T142608Z
UID:567-1782900000-1783098000@manufacturingevents.info
SUMMARY:ものづくりワールド　【東京】 2026
DESCRIPTION:第38回ものづくりワールド【東京】2026は、日本最大級の製造業向けBtoB展示会群であり、設計・開発から製造、品質管理、物流に至るまで、製造プロセス全体を網羅的にカバーしています。 \n本展示会では、機械要素技術、設計・製造ソリューション（DMS）、工場設備・備品、計測・検査、次世代3Dプリンタ、製造業DX、ODM/EMSなど、複数の専門展示が同時開催され、約2\,000社の出展（予定）と約70\,000名の来場（予定）が見込まれています。 \nAI、IoT、ロボット、CAD/CAM、デジタルツインなどの最新技術が一堂に集まり、来場者は自社の課題解決に直結するソリューション比較や、新たなサプライヤー探索、技術トレンドの把握を効率的に行うことが可能です。 \nまた、会期中には業界の第一線で活躍する専門家によるセミナーや講演も多数開催され、製造業のDX推進や最新事例について実践的な知見を得る機会が提供されます。 \n東京展はシリーズ最大規模であり、初めてものづくりワールドに参加する企業や、幅広い分野を横断して情報収集を行いたい企業に特に適しています。 \n※本ページにて掲載していた開催日程に誤りがございました。現在は正しい情報へ修正しております。ご迷惑をおかけしましたことをお詫び申し上げます。
URL:https://manufacturingevents.info/event/monodukuri-world-tokyo-2026/
LOCATION:東京ビッグサイト\, 東京都江東区有明3-11-1 株式会社 東京ビッグサイト\, 東京\, 135-0063\, Japan
CATEGORIES:展示会
END:VEVENT
BEGIN:VEVENT
DTSTART;TZID=Asia/Tokyo:20260121T100000
DTEND;TZID=Asia/Tokyo:20260123T170000
DTSTAMP:20260423T141739
CREATED:20250924T043623Z
LAST-MODIFIED:20260109T040952Z
UID:565-1768989600-1769187600@manufacturingevents.info
SUMMARY:スマート工場EXPO 2026
DESCRIPTION:スマート工場 EXPO 2026は、製造業におけるデジタルトランスフォーメーション（DX）を推進するための最新技術とソリューションが集結するB2B展示会です。IoT、AI、ロボット、FA、クラウド、セキュリティ、データ活用など、工場のスマート化に不可欠な分野を横断的に網羅し、製造現場の課題解決に直結する技術動向を把握できる場として高い評価を得ています。 \n会場では、生産設備の可視化、工程最適化、品質管理の高度化、予知保全、省人化・自動化といったテーマを中心に、具体的な製品・システム・導入事例が紹介されます。単なる技術展示にとどまらず、実際の製造現場への導入を想定したソリューション提案が多く、導入検討段階にある企業にとっても実務的な情報収集が可能です。 \n来場者には、製造業の経営層、工場長、生産技術・情報システム担当者、DX推進担当者などが多く、日本の製造業が直面する人手不足やコスト増、国際競争力強化といった課題に対し、デジタル技術を活用した具体的な打ち手を検討する場として活用されています。ロボットやFA技術を含むため、ロボット関連展示会や工作機械展との相乗効果も高い点が特長です。 \n併設される専門セミナーやカンファレンスでは、最新のDX事例や技術トレンドが紹介され、技術的理解を深めるとともに、実際の導入に向けたヒントを得ることができます。最新の出展者一覧は公式サイトにて順次公開され、来場前に関心分野を整理することで、効率的な情報収集や商談計画を立てることが可能です。 \nなお、来場者の入場料は事前来場登録を行うことで無料となっており、製造業のDXやスマートファクトリー化を検討する企業にとって参加しやすい環境が整えられています。スマート工場 EXPO 2026は、製造業の将来像を具体的に描き、次のアクションにつなげるための実務的価値の高い展示会です。
URL:https://manufacturingevents.info/event/smart-factory-expo-2026/
LOCATION:東京ビッグサイト\, 東京都江東区有明3-11-1 株式会社 東京ビッグサイト\, 東京\, 135-0063\, Japan
CATEGORIES:展示会
ATTACH;FMTTYPE=image/png:https://manufacturingevents.info/wp-content/uploads/2025/09/smart-factory-2026.png
END:VEVENT
END:VCALENDAR