BEGIN:VCALENDAR
VERSION:2.0
PRODID:-//ものづくり展示会ナビ - ECPv6.15.20//NONSGML v1.0//EN
CALSCALE:GREGORIAN
METHOD:PUBLISH
X-WR-CALNAME:ものづくり展示会ナビ
X-ORIGINAL-URL:https://manufacturingevents.info
X-WR-CALDESC:ものづくり展示会ナビ のイベント
REFRESH-INTERVAL;VALUE=DURATION:PT1H
X-Robots-Tag:noindex
X-PUBLISHED-TTL:PT1H
BEGIN:VTIMEZONE
TZID:Asia/Tokyo
BEGIN:STANDARD
TZOFFSETFROM:+0900
TZOFFSETTO:+0900
TZNAME:JST
DTSTART:20250101T000000
END:STANDARD
END:VTIMEZONE
BEGIN:VEVENT
DTSTART;TZID=Asia/Tokyo:20260708T100000
DTEND;TZID=Asia/Tokyo:20260708T110000
DTSTAMP:20260421T175028
CREATED:20260408T015929Z
LAST-MODIFIED:20260410T085951Z
UID:1056-1783504800-1783508400@manufacturingevents.info
SUMMARY:2030年日本OEMの開発・生産シナリオ
DESCRIPTION:米国の関税政策、欧州の電動化規制の緩和、中国市場における日本OEMの販売動向を軸に、グローバル自動車市場の変化と今後の機会・課題を分析するB2B向けオンラインウェビナーです。参加は無料です。 \n各地域で異なる政策・需要環境の変化が、OEMの生産・販売戦略にどのような影響を与えるのかを整理し、日本企業にとってのリスクと成長機会を具体的に考察します。特に、中国市場での競争環境の変化や今後の巻き返しの可能性は重要な論点です。 \n営業戦略、海外事業、製品企画、経営企画に関わる担当者にとって、地域別戦略の見直しや意思決定に直結するインサイトを得られる内容です。 \n事前に質問を送付することで、ライブ配信中のQ&Aセッションで優先的に回答されます。 \n登壇者\n大西 健之\n日本ライトビークルプロダクション・フォーキャスト\nシニアリサーチアナリスト\nS&P Global Mobility
URL:https://manufacturingevents.info/event/japan-oem-development-webinar-2026/
LOCATION:オンライン
CATEGORIES:ウェビナー
ATTACH;FMTTYPE=image/png:https://manufacturingevents.info/wp-content/uploads/2026/04/oem-webinar.png
END:VEVENT
END:VCALENDAR